BEGIN:VCALENDAR
VERSION:2.0
PRODID:-//Plone.org//NONSGML plone.app.event//EN
X-WR-TIMEZONE:Brazil/East
BEGIN:VEVENT
SUMMARY:Sessão Ordinária
DTSTART;TZID=Brazil/East;VALUE=DATE-TIME:20260202T200000
DTSTAMP;VALUE=DATE-TIME:20260421T050801Z
UID:0c52aefab21946eaa46443dd62cfbd7e@www.dracena.sp.leg.br
RDATE;TZID=Brazil/East:20260218T000000,20260422T000000
EXDATE;TZID=Brazil/East:20260216T000000,20260420T000000
CREATED;VALUE=DATE-TIME:20260326T111829Z
LAST-MODIFIED;VALUE=DATE-TIME:20260414T122117Z
LOCATION:Câmara Municipal de Dracena
RRULE:FREQ=DAILY;COUNT=22;INTERVAL=7
URL:https://www.dracena.sp.leg.br/institucional/eventos/sessao-ordinaria-1
END:VEVENT
BEGIN:VEVENT
SUMMARY:
DTSTART;TZID=Brazil/East;VALUE=DATE-TIME:20260304T160000
DTEND;TZID=Brazil/East;VALUE=DATE-TIME:20260304T170000
DTSTAMP;VALUE=DATE-TIME:20260421T050801Z
UID:None
CREATED;VALUE=DATE-TIME:20260416T114104Z
LAST-MODIFIED;VALUE=DATE-TIME:20260304T211948Z
URL:https://www.dracena.sp.leg.br/institucional/eventos/
END:VEVENT
BEGIN:VEVENT
SUMMARY:Início do recesso legislativo
DTSTART;VALUE=DATE:20260701
DTEND;VALUE=DATE:20260702
DTSTAMP;VALUE=DATE-TIME:20260421T050801Z
UID:a1ab8045ce0340fa879b023bc7bd627c@www.dracena.sp.leg.br
CREATED;VALUE=DATE-TIME:20260326T112116Z
LAST-MODIFIED;VALUE=DATE-TIME:20260326T112119Z
URL:https://www.dracena.sp.leg.br/institucional/eventos/inicio-do-recesso-
 legislativo-1
END:VEVENT
BEGIN:VEVENT
SUMMARY:Fim do recesso legislativo
DTSTART;VALUE=DATE:20260803
DTEND;VALUE=DATE:20260804
DTSTAMP;VALUE=DATE-TIME:20260421T050801Z
UID:66d925e59fd24477a0a8fda2f6bc66c0@www.dracena.sp.leg.br
CREATED;VALUE=DATE-TIME:20260326T112202Z
LAST-MODIFIED;VALUE=DATE-TIME:20260326T112205Z
URL:https://www.dracena.sp.leg.br/institucional/eventos/fim-do-recesso-leg
 islativo-1
END:VEVENT
BEGIN:VEVENT
SUMMARY:Sessão Ordinária
DTSTART;TZID=Brazil/East;VALUE=DATE-TIME:20260803T200000
DTSTAMP;VALUE=DATE-TIME:20260421T050801Z
UID:dc4eb60d7b034b1287074794310a553d@www.dracena.sp.leg.br
RDATE;TZID=Brazil/East:20260908T000000,20261013T000000,20261103T000000
EXDATE;TZID=Brazil/East:20260907T000000,20260907T000000,20261012T000000,20
 261102T000000
CREATED;VALUE=DATE-TIME:20260326T112334Z
LAST-MODIFIED;VALUE=DATE-TIME:20260326T140720Z
LOCATION:Câmara Municipal de Dracena
RRULE:FREQ=DAILY;COUNT=21;INTERVAL=7
URL:https://www.dracena.sp.leg.br/institucional/eventos/sessao-ordinaria-2
END:VEVENT
BEGIN:VEVENT
SUMMARY:Início do recesso legislativo
DTSTART;VALUE=DATE:20261216
DTEND;VALUE=DATE:20261217
DTSTAMP;VALUE=DATE-TIME:20260421T050801Z
UID:4a5c842c0e1d43bdbcc28cfdf69bc1af@www.dracena.sp.leg.br
CREATED;VALUE=DATE-TIME:20260326T112409Z
LAST-MODIFIED;VALUE=DATE-TIME:20260326T112413Z
URL:https://www.dracena.sp.leg.br/institucional/eventos/inicio-do-recesso-
 legislativo-2
END:VEVENT
BEGIN:VTIMEZONE
TZID:Brazil/East
X-LIC-LOCATION:Brazil/East
BEGIN:DAYLIGHT
DTSTART;VALUE=DATE-TIME:20251019T010000
TZNAME:BRST
TZOFFSETFROM:-0300
TZOFFSETTO:-0200
END:DAYLIGHT
BEGIN:STANDARD
DTSTART;VALUE=DATE-TIME:20260221T230000
TZNAME:BRT
TZOFFSETFROM:-0200
TZOFFSETTO:-0300
END:STANDARD
END:VTIMEZONE
END:VCALENDAR
